BEGIN:VCALENDAR
VERSION:2.0
PRODID:-//ChamberMaster//Event Calendar 2.0//EN
METHOD:PUBLISH
X-PUBLISHED-TTL:P1H
REFRESH-INTERVAL:P1H
CALSCALE:GREGORIAN
BEGIN:VTIMEZONE
TZID:America/Denver
BEGIN:DAYLIGHT
RRULE:FREQ=YEARLY;BYMONTH=3;BYDAY=2SU
DTSTART:20070101T000000
TZOFFSETFROM:-0700
TZOFFSETTO:-0600
TZNAME:Mountain Daylight Time
END:DAYLIGHT
BEGIN:STANDARD
RRULE:FREQ=YEARLY;BYMONTH=11;BYDAY=1SU
DTSTART:20070101T000000
TZOFFSETFROM:-0600
TZOFFSETTO:-0700
TZNAME:Mountain Standard Time
END:STANDARD
END:VTIMEZONE
BEGIN:VEVENT
DTSTART;TZID=America/Denver:20260425T080000
DTEND;TZID=America/Denver:20260425T110000
X-MICROSOFT-CDO-ALLDAYEVENT:FALSE
SUMMARY:2026 HEALTH & JOB FAIR
DESCRIPTION:Hosted by Cibola General Hospital\n\nContinental Divide CO-OP Member Registration
X-ALT-DESC;FMTTYPE=text/html:Hosted by Cibola General Hospital\n\nContinental Divide CO-OP Member Registration
LOCATION:
UID:e.4494.1445881
SEQUENCE:3
DTSTAMP:20260419T131259Z
URL:https://grantscibolacountychamberofcommerce.growthzoneapp.com/calendar/Details/2026-health-job-fair-1712531?sourceTypeId=Hub
END:VEVENT
END:VCALENDAR
